BEGIN:VCALENDAR
VERSION:2.0
PRODID:-//jEvents 2.0 for Joomla//EN
CALSCALE:GREGORIAN
METHOD:PUBLISH
BEGIN:VTIMEZONE
TZID:Europe/Berlin
BEGIN:STANDARD
DTSTART:20230307T083000
RDATE:20230326T030000
TZOFFSETFROM:+0200
TZOFFSETTO:+0100
TZNAME:Europe/Berlin CET
END:STANDARD
BEGIN:STANDARD
DTSTART:20231029T020000
RDATE:20240331T030000
TZOFFSETFROM:+0200
TZOFFSETTO:+0100
TZNAME:Europe/Berlin CET
END:STANDARD
BEGIN:STANDARD
DTSTART:20241027T020000
RDATE:20250330T030000
TZOFFSETFROM:+0200
TZOFFSETTO:+0100
TZNAME:Europe/Berlin CET
END:STANDARD
BEGIN:STANDARD
DTSTART:20251026T020000
RDATE:20260329T030000
TZOFFSETFROM:+0200
TZOFFSETTO:+0100
TZNAME:Europe/Berlin CET
END:STANDARD
BEGIN:STANDARD
DTSTART:20261025T020000
RDATE:20270328T030000
TZOFFSETFROM:+0200
TZOFFSETTO:+0100
TZNAME:Europe/Berlin CET
END:STANDARD
BEGIN:STANDARD
DTSTART:20271031T020000
RDATE:20280326T030000
TZOFFSETFROM:+0200
TZOFFSETTO:+0100
TZNAME:Europe/Berlin CET
END:STANDARD
BEGIN:STANDARD
DTSTART:20281029T020000
RDATE:20290325T030000
TZOFFSETFROM:+0200
TZOFFSETTO:+0100
TZNAME:Europe/Berlin CET
END:STANDARD
BEGIN:STANDARD
DTSTART:20291028T020000
RDATE:20300331T030000
TZOFFSETFROM:+0200
TZOFFSETTO:+0100
TZNAME:Europe/Berlin CET
END:STANDARD
BEGIN:STANDARD
DTSTART:20301027T020000
RDATE:20310330T030000
TZOFFSETFROM:+0200
TZOFFSETTO:+0100
TZNAME:Europe/Berlin CET
END:STANDARD
BEGIN:STANDARD
DTSTART:20311026T020000
RDATE:20320328T030000
TZOFFSETFROM:+0200
TZOFFSETTO:+0100
TZNAME:Europe/Berlin CET
END:STANDARD
BEGIN:DAYLIGHT
DTSTART:20230326T030000
RDATE:20231029T020000
TZOFFSETFROM:+0100
TZOFFSETTO:+0200
TZNAME:Europe/Berlin CEST
END:DAYLIGHT
BEGIN:DAYLIGHT
DTSTART:20240331T030000
RDATE:20241027T020000
TZOFFSETFROM:+0100
TZOFFSETTO:+0200
TZNAME:Europe/Berlin CEST
END:DAYLIGHT
BEGIN:DAYLIGHT
DTSTART:20250330T030000
RDATE:20251026T020000
TZOFFSETFROM:+0100
TZOFFSETTO:+0200
TZNAME:Europe/Berlin CEST
END:DAYLIGHT
BEGIN:DAYLIGHT
DTSTART:20260329T030000
RDATE:20261025T020000
TZOFFSETFROM:+0100
TZOFFSETTO:+0200
TZNAME:Europe/Berlin CEST
END:DAYLIGHT
BEGIN:DAYLIGHT
DTSTART:20270328T030000
RDATE:20271031T020000
TZOFFSETFROM:+0100
TZOFFSETTO:+0200
TZNAME:Europe/Berlin CEST
END:DAYLIGHT
BEGIN:DAYLIGHT
DTSTART:20280326T030000
RDATE:20281029T020000
TZOFFSETFROM:+0100
TZOFFSETTO:+0200
TZNAME:Europe/Berlin CEST
END:DAYLIGHT
BEGIN:DAYLIGHT
DTSTART:20290325T030000
RDATE:20291028T020000
TZOFFSETFROM:+0100
TZOFFSETTO:+0200
TZNAME:Europe/Berlin CEST
END:DAYLIGHT
BEGIN:DAYLIGHT
DTSTART:20300331T030000
RDATE:20301027T020000
TZOFFSETFROM:+0100
TZOFFSETTO:+0200
TZNAME:Europe/Berlin CEST
END:DAYLIGHT
BEGIN:DAYLIGHT
DTSTART:20310330T030000
RDATE:20311026T020000
TZOFFSETFROM:+0100
TZOFFSETTO:+0200
TZNAME:Europe/Berlin CEST
END:DAYLIGHT
END:VTIMEZONE
BEGIN:VEVENT
UID:4137d1804bdd65dc5b65b77263c5dc4f
CATEGORIES:Fortbildungen
CREATED:20240208T105220
SUMMARY:Sonografie peripherer Nerven und Muskeln (Hands on-Kurs PK-01A auf dem DGKN-Kongress 2024)
LOCATION:Kap Europa Messe Frankfurt
DESCRIPTION:Dieser Kurs wird auf dem DGKN-Kongress 2024 (https://www.kongress-dgkn.de/)
  in Frankfurt am Main angeboten.\nDer Praxiskurs zur Nervensonographie soll
  einen praktischen Einstieg in die Methode vermitteln. Im ersten Teil wird 
 in Plenarvorträgen die Untersuchungstechnik vorgestellt sowie eine klinisch
 e Einführung zur Anwendung bei Nervenkompressionssyndromen und anderen foka
 len Neuropathien gegeben.\nIm zweiten Teil kann in Kleingruppen die Untersu
 chung peripherer Nerven am Ultraschallgerät geübt werden.\nVeranstalter\nDe
 utsche Gesellschaft für Klinische Neurophysiologie und Funktionelle Bildgeb
 ung e.V.\nKursleitung\nProf. Dr. Ulf Schminke (Greifswald)\nZielgruppe\nDer
  Kurs ist für Anfänger/-innen geeignet.\nAnmeldung\nAnmeldungen für den Kur
 s Sonografie peripherer Nerven und Muskeln (Hands on-Kurs PK-01A) sind auss
 chließlich über die <a href="https://www.kongress-dgkn.de/programm/kursuebe
 rsicht.html" target="_blank" rel="noopener">Kongress-Website</a> möglich. D
 ie Kursbuchung setzt ein aktives Benutzerkonto (https://www.kongress-dgkn.d
 e/teilnehmerbereich/mein-benutzerkonto/buchung-von-fortbildungskursen.html)
  und ein gültiges <a href="https://www.kongress-dgkn.de/registrierung/regis
 trierung.html" target="_blank" rel="noopener" title="Buchen Sie jetzt Ihr K
 ongressticket">Kongressticket</a> voraus.\nBei Fragen wenden Sie sich bitte
  per E-Mail an Diese E-Mail-Adresse ist vor Spambots geschützt! Zur Anzeige
  muss JavaScript eingeschaltet sein..\nTeilnehmerzahl\nDie Teilnehmerzahl i
 st begrenzt.\nKosten\nDie Kosten für die Kursteilnahme betragen 100 EUR.\nU
 m an dem Kurs teilnehmen zu können, ist eine vorherige Anmeldung zum DGKN-K
 ongress (https://www.kongress-dgkn.de/registrierung/registrierung.html) erf
 orderlich.\nZertifizierung\nDie Fortbildung ist durch die DEGUM mit 2 Stund
 en zertifiziert.\n
X-ALT-DESC;FMTTYPE=text/html:<p>Dieser Kurs wird auf dem <a href="https://www.kongress-dgkn.de/" target=
 "_blank" rel="noopener" title="6.-9. März 2024 | Kongress für Klinische Neu
 rowissenschaften mit Fortbildungsakademie">DGKN-Kongress 2024</a> in Frankf
 urt am Main angeboten.</p><p>Der Praxiskurs zur Nervensonographie soll eine
 n praktischen Einstieg in die Methode vermitteln. Im ersten Teil wird in Pl
 enarvorträgen die Untersuchungstechnik vorgestellt sowie eine klinische Ein
 führung zur Anwendung bei Nervenkompressionssyndromen und anderen fokalen N
 europathien gegeben.</p><p>Im zweiten Teil kann in Kleingruppen die Untersu
 chung peripherer Nerven am Ultraschallgerät geübt werden.</p><p><strong>Ver
 anstalter</strong><br />Deutsche Gesellschaft für Klinische Neurophysiologi
 e und Funktionelle Bildgebung e.V.</p><p><strong>Kursleitung</strong><br />
 Prof. Dr. Ulf Schminke (Greifswald)</p><p><strong>Zielgruppe</strong><br />
 Der Kurs ist für Anfänger/-innen geeignet.</p><p><strong>Anmeldung</strong>
 <br />Anmeldungen für den Kurs&nbsp;Sonografie peripherer Nerven und Muskel
 n (Hands on-Kurs PK-01A) sind ausschließlich über die <a href="https://www.
 kongress-dgkn.de/programm/kursuebersicht.html" target="_blank" rel="noopene
 r">Kongress-Website</a> möglich. Die Kursbuchung setzt ein aktives <a href=
 "https://www.kongress-dgkn.de/teilnehmerbereich/mein-benutzerkonto/buchung-
 von-fortbildungskursen.html" target="_blank" rel="noopener">Benutzerkonto</
 a> und ein gültiges <a href="https://www.kongress-dgkn.de/registrierung/reg
 istrierung.html" target="_blank" rel="noopener" title="Buchen Sie jetzt Ihr
  Kongressticket">Kongressticket</a> voraus.</p><p>Bei Fragen wenden Sie sic
 h bitte per E-Mail an <joomla-hidden-mail  is-link="1" is-email="1" first="
 ZGdrbg==" last="Y3BvLWhhbnNlci5kZQ==" text="ZGdrbkBjcG8taGFuc2VyLmRl" base=
 ""  target="_blank">Diese E-Mail-Adresse ist vor Spambots geschützt! Zur An
 zeige muss JavaScript eingeschaltet sein.</joomla-hidden-mail>.</p><p><stro
 ng>Teilnehmerzahl</strong><br />Die Teilnehmerzahl ist begrenzt.</p><p><str
 ong>Kosten</strong><br />Die Kosten für die Kursteilnahme betragen 100 EUR.
 <br />Um an dem Kurs teilnehmen zu können, ist eine vorherige <a href="http
 s://www.kongress-dgkn.de/registrierung/registrierung.html" target="_blank" 
 rel="noopener" title="Buchen Sie jetzt Ihr Kongressticket">Anmeldung zum DG
 KN-Kongress</a> erforderlich.</p><p><strong>Zertifizierung<br /></strong>Di
 e Fortbildung ist durch die DEGUM mit 2 Stunden zertifiziert.</p>
DTSTAMP:20260423T163823
DTSTART;TZID=Europe/Berlin:20240307T083000
DTEND;TZID=Europe/Berlin:20240307T103000
SEQUENCE:0
TRANSP:OPAQUE
END:VEVENT
END:VCALENDAR