BEGIN:VCALENDAR
VERSION:2.0
PRODID:-//jEvents 2.0 for Joomla//EN
CALSCALE:GREGORIAN
METHOD:PUBLISH
BEGIN:VTIMEZONE
TZID:Europe/Berlin
BEGIN:STANDARD
DTSTART:20230307T083000
RDATE:20230326T030000
TZOFFSETFROM:+0200
TZOFFSETTO:+0100
TZNAME:Europe/Berlin CET
END:STANDARD
BEGIN:STANDARD
DTSTART:20231029T020000
RDATE:20240331T030000
TZOFFSETFROM:+0200
TZOFFSETTO:+0100
TZNAME:Europe/Berlin CET
END:STANDARD
BEGIN:STANDARD
DTSTART:20241027T020000
RDATE:20250330T030000
TZOFFSETFROM:+0200
TZOFFSETTO:+0100
TZNAME:Europe/Berlin CET
END:STANDARD
BEGIN:STANDARD
DTSTART:20251026T020000
RDATE:20260329T030000
TZOFFSETFROM:+0200
TZOFFSETTO:+0100
TZNAME:Europe/Berlin CET
END:STANDARD
BEGIN:STANDARD
DTSTART:20261025T020000
RDATE:20270328T030000
TZOFFSETFROM:+0200
TZOFFSETTO:+0100
TZNAME:Europe/Berlin CET
END:STANDARD
BEGIN:STANDARD
DTSTART:20271031T020000
RDATE:20280326T030000
TZOFFSETFROM:+0200
TZOFFSETTO:+0100
TZNAME:Europe/Berlin CET
END:STANDARD
BEGIN:STANDARD
DTSTART:20281029T020000
RDATE:20290325T030000
TZOFFSETFROM:+0200
TZOFFSETTO:+0100
TZNAME:Europe/Berlin CET
END:STANDARD
BEGIN:STANDARD
DTSTART:20291028T020000
RDATE:20300331T030000
TZOFFSETFROM:+0200
TZOFFSETTO:+0100
TZNAME:Europe/Berlin CET
END:STANDARD
BEGIN:STANDARD
DTSTART:20301027T020000
RDATE:20310330T030000
TZOFFSETFROM:+0200
TZOFFSETTO:+0100
TZNAME:Europe/Berlin CET
END:STANDARD
BEGIN:STANDARD
DTSTART:20311026T020000
RDATE:20320328T030000
TZOFFSETFROM:+0200
TZOFFSETTO:+0100
TZNAME:Europe/Berlin CET
END:STANDARD
BEGIN:DAYLIGHT
DTSTART:20230326T030000
RDATE:20231029T020000
TZOFFSETFROM:+0100
TZOFFSETTO:+0200
TZNAME:Europe/Berlin CEST
END:DAYLIGHT
BEGIN:DAYLIGHT
DTSTART:20240331T030000
RDATE:20241027T020000
TZOFFSETFROM:+0100
TZOFFSETTO:+0200
TZNAME:Europe/Berlin CEST
END:DAYLIGHT
BEGIN:DAYLIGHT
DTSTART:20250330T030000
RDATE:20251026T020000
TZOFFSETFROM:+0100
TZOFFSETTO:+0200
TZNAME:Europe/Berlin CEST
END:DAYLIGHT
BEGIN:DAYLIGHT
DTSTART:20260329T030000
RDATE:20261025T020000
TZOFFSETFROM:+0100
TZOFFSETTO:+0200
TZNAME:Europe/Berlin CEST
END:DAYLIGHT
BEGIN:DAYLIGHT
DTSTART:20270328T030000
RDATE:20271031T020000
TZOFFSETFROM:+0100
TZOFFSETTO:+0200
TZNAME:Europe/Berlin CEST
END:DAYLIGHT
BEGIN:DAYLIGHT
DTSTART:20280326T030000
RDATE:20281029T020000
TZOFFSETFROM:+0100
TZOFFSETTO:+0200
TZNAME:Europe/Berlin CEST
END:DAYLIGHT
BEGIN:DAYLIGHT
DTSTART:20290325T030000
RDATE:20291028T020000
TZOFFSETFROM:+0100
TZOFFSETTO:+0200
TZNAME:Europe/Berlin CEST
END:DAYLIGHT
BEGIN:DAYLIGHT
DTSTART:20300331T030000
RDATE:20301027T020000
TZOFFSETFROM:+0100
TZOFFSETTO:+0200
TZNAME:Europe/Berlin CEST
END:DAYLIGHT
BEGIN:DAYLIGHT
DTSTART:20310330T030000
RDATE:20311026T020000
TZOFFSETFROM:+0100
TZOFFSETTO:+0200
TZNAME:Europe/Berlin CEST
END:DAYLIGHT
END:VTIMEZONE
BEGIN:VEVENT
UID:3c351d80fd8257499b7ee0a9b6d8239b
CATEGORIES:Fortbildungen
CREATED:20240208T105220
SUMMARY:Ultraschall: Gefäße (Kurs MK-04 auf dem DGKN-Kongress 2024)
LOCATION:Kap Europa Messe Frankfurt
DESCRIPTION:Dieser Kurs wird auf dem DGKN-Kongress 2024 (https://www.kongress-dgkn.de/)
  in Frankfurt am Main angeboten.\nDer Kurs richtet sich an interessierte Ul
 traschallerInnen, die ihre Basiskenntnisse weiter vertiefen wollen. Der Kur
 s ist curricular aufgebaut und deckt über einen Zeitraum von drei Jahren al
 le Ultraschallthemen ab, die für das Zertifikat der Stufe 1 und/oder 2 der 
 DEGUM/DGKN „neurologische Ultraschalldiagnostik“ von Relevanz sind.\nVerans
 talter\nDeutsche Gesellschaft für Klinische Neurophysiologie und Funktionel
 le Bildgebung e.V.\nKursleitung\nDr. Jens Allendörfer (Nidda)\nProf. Dr. Kl
 aus Gröschel (Mainz)\nZielgruppe\nDer Kurs ist für Anfänger/-innen geeignet
 . Vorkenntnisse sind von Vorteil.\nAnmeldung\nAnmeldungen für den Kurs Ultr
 aschall: Gefäße (MK-04) sind ausschließlich über die <a href="https://www.k
 ongress-dgkn.de/programm/kursuebersicht.html" target="_blank" rel="noopener
 ">Kongress-Website</a> möglich. Die Kursbuchung setzt ein aktives Benutzerk
 onto (https://www.kongress-dgkn.de/teilnehmerbereich/mein-benutzerkonto/buc
 hung-von-fortbildungskursen.html) und ein gültiges <a href="https://www.kon
 gress-dgkn.de/registrierung/registrierung.html" target="_blank" rel="noopen
 er" title="Buchen Sie jetzt Ihr Kongressticket">Kongressticket</a> voraus.\
 nBei Fragen wenden Sie sich bitte per E-Mail an Diese E-Mail-Adresse ist vo
 r Spambots geschützt! Zur Anzeige muss JavaScript eingeschaltet sein..\nTei
 lnehmerzahl\nDie Teilnehmerzahl ist begrenzt.\nKosten\nDie Kosten für die K
 ursteilnahme betragen 140 EUR.\nUm an dem Kurs teilnehmen zu können, ist ei
 ne vorherige Anmeldung zum DGKN-Kongress (https://www.kongress-dgkn.de/regi
 strierung/registrierung.html) erforderlich.\nZertifizierung\nDie Fortbildun
 g ist durch die DEGUM mit 7 Stunden zertifiziert.\n
X-ALT-DESC;FMTTYPE=text/html:<p>Dieser Kurs wird auf dem <a href="https://www.kongress-dgkn.de/" target=
 "_blank" rel="noopener" title="6.-9. März 2024 | Kongress für Klinische Neu
 rowissenschaften mit Fortbildungsakademie">DGKN-Kongress 2024</a> in Frankf
 urt am Main angeboten.</p><p>Der Kurs richtet sich an interessierte Ultrasc
 hallerInnen, die ihre Basiskenntnisse weiter vertiefen wollen. Der Kurs ist
  curricular aufgebaut und deckt über einen Zeitraum von drei Jahren alle Ul
 traschallthemen ab, die für das Zertifikat der Stufe 1 und/oder 2 der DEGUM
 /DGKN „neurologische Ultraschalldiagnostik“ von Relevanz sind.</p><p><stron
 g>Veranstalter</strong><br />Deutsche Gesellschaft für Klinische Neurophysi
 ologie und Funktionelle Bildgebung e.V.</p><p><strong>Kursleitung</strong><
 br />Dr. Jens Allendörfer (Nidda)</p><p>Prof. Dr. Klaus Gröschel (Mainz)</p
 ><p><strong>Zielgruppe</strong><br />Der Kurs ist für Anfänger/-innen geeig
 net. Vorkenntnisse sind von Vorteil.</p><p><strong>Anmeldung</strong><br />
 Anmeldungen für den Kurs&nbsp;Ultraschall: Gefäße (MK-04) sind ausschließli
 ch über die <a href="https://www.kongress-dgkn.de/programm/kursuebersicht.h
 tml" target="_blank" rel="noopener">Kongress-Website</a> möglich. Die Kursb
 uchung setzt ein aktives <a href="https://www.kongress-dgkn.de/teilnehmerbe
 reich/mein-benutzerkonto/buchung-von-fortbildungskursen.html" target="_blan
 k" rel="noopener">Benutzerkonto</a> und ein gültiges <a href="https://www.k
 ongress-dgkn.de/registrierung/registrierung.html" target="_blank" rel="noop
 ener" title="Buchen Sie jetzt Ihr Kongressticket">Kongressticket</a> voraus
 .</p><p>Bei Fragen wenden Sie sich bitte per E-Mail an <joomla-hidden-mail 
  is-link="1" is-email="1" first="ZGdrbg==" last="Y3BvLWhhbnNlci5kZQ==" text
 ="ZGdrbkBjcG8taGFuc2VyLmRl" base=""  target="_blank">Diese E-Mail-Adresse i
 st vor Spambots geschützt! Zur Anzeige muss JavaScript eingeschaltet sein.<
 /joomla-hidden-mail>.</p><p><strong>Teilnehmerzahl</strong><br />Die Teilne
 hmerzahl ist begrenzt.</p><p><strong>Kosten</strong><br />Die Kosten für di
 e Kursteilnahme betragen 140 EUR.<br />Um an dem Kurs teilnehmen zu können,
  ist eine vorherige <a href="https://www.kongress-dgkn.de/registrierung/reg
 istrierung.html" target="_blank" rel="noopener" title="Buchen Sie jetzt Ihr
  Kongressticket">Anmeldung zum DGKN-Kongress</a> erforderlich.</p><p><stron
 g>Zertifizierung<br /></strong>Die Fortbildung ist durch die DEGUM mit 7 St
 unden zertifiziert.</p>
DTSTAMP:20260423T165132
DTSTART;TZID=Europe/Berlin:20240307T083000
DTEND;TZID=Europe/Berlin:20240307T153000
SEQUENCE:0
TRANSP:OPAQUE
END:VEVENT
END:VCALENDAR