BEGIN:VCALENDAR
VERSION:2.0
PRODID:-//jEvents 2.0 for Joomla//EN
CALSCALE:GREGORIAN
METHOD:PUBLISH
BEGIN:VTIMEZONE
TZID:Europe/Berlin
BEGIN:STANDARD
DTSTART:20251026T020000
RDATE:20260329T030000
TZOFFSETFROM:+0200
TZOFFSETTO:+0100
TZNAME:Europe/Berlin CET
END:STANDARD
BEGIN:STANDARD
DTSTART:20261025T020000
RDATE:20270328T030000
TZOFFSETFROM:+0200
TZOFFSETTO:+0100
TZNAME:Europe/Berlin CET
END:STANDARD
BEGIN:STANDARD
DTSTART:20271031T020000
RDATE:20280326T030000
TZOFFSETFROM:+0200
TZOFFSETTO:+0100
TZNAME:Europe/Berlin CET
END:STANDARD
BEGIN:STANDARD
DTSTART:20281029T020000
RDATE:20290325T030000
TZOFFSETFROM:+0200
TZOFFSETTO:+0100
TZNAME:Europe/Berlin CET
END:STANDARD
BEGIN:STANDARD
DTSTART:20291028T020000
RDATE:20300331T030000
TZOFFSETFROM:+0200
TZOFFSETTO:+0100
TZNAME:Europe/Berlin CET
END:STANDARD
BEGIN:STANDARD
DTSTART:20301027T020000
RDATE:20310330T030000
TZOFFSETFROM:+0200
TZOFFSETTO:+0100
TZNAME:Europe/Berlin CET
END:STANDARD
BEGIN:STANDARD
DTSTART:20311026T020000
RDATE:20320328T030000
TZOFFSETFROM:+0200
TZOFFSETTO:+0100
TZNAME:Europe/Berlin CET
END:STANDARD
BEGIN:DAYLIGHT
DTSTART:20251021T140000
RDATE:20251026T020000
TZOFFSETFROM:+0100
TZOFFSETTO:+0200
TZNAME:Europe/Berlin CEST
END:DAYLIGHT
BEGIN:DAYLIGHT
DTSTART:20260329T030000
RDATE:20261025T020000
TZOFFSETFROM:+0100
TZOFFSETTO:+0200
TZNAME:Europe/Berlin CEST
END:DAYLIGHT
BEGIN:DAYLIGHT
DTSTART:20270328T030000
RDATE:20271031T020000
TZOFFSETFROM:+0100
TZOFFSETTO:+0200
TZNAME:Europe/Berlin CEST
END:DAYLIGHT
BEGIN:DAYLIGHT
DTSTART:20280326T030000
RDATE:20281029T020000
TZOFFSETFROM:+0100
TZOFFSETTO:+0200
TZNAME:Europe/Berlin CEST
END:DAYLIGHT
BEGIN:DAYLIGHT
DTSTART:20290325T030000
RDATE:20291028T020000
TZOFFSETFROM:+0100
TZOFFSETTO:+0200
TZNAME:Europe/Berlin CEST
END:DAYLIGHT
BEGIN:DAYLIGHT
DTSTART:20300331T030000
RDATE:20301027T020000
TZOFFSETFROM:+0100
TZOFFSETTO:+0200
TZNAME:Europe/Berlin CEST
END:DAYLIGHT
BEGIN:DAYLIGHT
DTSTART:20310330T030000
RDATE:20311026T020000
TZOFFSETFROM:+0100
TZOFFSETTO:+0200
TZNAME:Europe/Berlin CEST
END:DAYLIGHT
END:VTIMEZONE
BEGIN:VEVENT
UID:f354cd65172cedd55db585f248f598e4
CATEGORIES:Fortbildungen
CREATED:20251029T091633
SUMMARY:Symposium - Gefäßkrankheiten – Hirn und Herz
LOCATION:Inselspital Bern
DESCRIPTION:Eine Veranstaltung des Inselspital Bern\nVor Ort und Livestream!\nAuditoriu
 m Maurice E. Müller, Inselspital\nKoordination: Prof. M. Arnold, Prof. D. S
 eiffge, Prof. T. Reichlin, Prof. St. Windecker, Prof. U. Fischer\nWebsite (
 https://neurologie.insel.ch/de/)\n<a href="images/Fortbildungskalender_2026
 _Neuro.pdf" target="_blank">Fortbildungen 2026</a>\n
X-ALT-DESC;FMTTYPE=text/html:<p>Eine Veranstaltung des Inselspital Bern</p><p>Vor Ort und Livestream!</p
 ><p>Auditorium Maurice E. Müller, Inselspital</p><p>Koordination: Prof. M. 
 Arnold, Prof. D. Seiffge, Prof. T. Reichlin, Prof. St. Windecker, Prof. U. 
 Fischer</p><p><a href="https://neurologie.insel.ch/de/" target="_blank" rel
 ="noopener" title="Öffnet Website in neuem Fenster">Website</a></p><p><a hr
 ef="images/Fortbildungskalender_2026_Neuro.pdf" target="_blank">Fortbildung
 en 2026</a></p>
DTSTAMP:20260423T090421
DTSTART;TZID=Europe/Berlin:20261022T140000
DTEND;TZID=Europe/Berlin:20261022T173000
SEQUENCE:0
TRANSP:OPAQUE
END:VEVENT
END:VCALENDAR